BEGIN:VCALENDAR
VERSION:2.0
PRODID:-//Squarespace Inc/Squarespace 6//v6//EN
BEGIN:VEVENT
UID:59140f1e440243174bc39a4a@squarespace.com
DTSTAMP:20170511T072122Z
DTSTART:20170518T073000Z
DTEND:20170519T083000Z
SUMMARY:UCLA Policy Forum: Governance of Indigenous Data
GEO:34.068921;-118.445181
LOCATION:UCLA\, USA
END:VEVENT
END:VCALENDAR
