BEGIN:VCALENDAR
VERSION:2.0
PRODID:-//Squarespace Inc/Squarespace 6//v6//EN
BEGIN:VEVENT
UID:5973b5ca29687fd9f2a781b6@squarespace.com
DTSTAMP:20170722T203309Z
DTSTART:20170726T130000Z
DTEND:20170726T163000Z
SUMMARY:Maori Data Sovereignty: Opportunities for Policy
GEO:-41.28646;174.776236
LOCATION:Te Puni Kokiri House\, Wellington\, New Zealand
END:VEVENT
END:VCALENDAR
